Package: BiocBaseUtils Version: 1.9.0 Command: /home/biocbuild/bbs-3.21-bioc/R/bin/R CMD INSTALL BiocBaseUtils StartedAt: 2025-02-19 15:03:12 -0500 (Wed, 19 Feb 2025) EndedAt: 2025-02-19 15:03:20 -0500 (Wed, 19 Feb 2025) EllapsedTime: 8.5 seconds RetCode: 0 Status: OK