Package: Biobase Version: 2.67.0 Command: E:\biocbuild\bbs-3.21-bioc\R\bin\R.exe CMD INSTALL Biobase StartedAt: 2025-02-21 16:00:19 -0500 (Fri, 21 Feb 2025) EndedAt: 2025-02-21 16:02:23 -0500 (Fri, 21 Feb 2025) EllapsedTime: 124.1 seconds RetCode: 0 Status: OK