Package: Biobase Version: 2.67.0 Command: rm -rf Biobase.buildbin-libdir && mkdir Biobase.buildbin-libdir && E:\biocbuild\bbs-3.21-bioc\R\bin\R.exe CMD INSTALL --build --library=Biobase.buildbin-libdir Biobase_2.67.0.tar.gz StartedAt: 2025-02-22 07:55:06 -0500 (Sat, 22 Feb 2025) EndedAt: 2025-02-22 07:57:31 -0500 (Sat, 22 Feb 2025) EllapsedTime: 144.5 seconds RetCode: 0 Status: OK PackageFile: Biobase_2.67.0.zip PackageFileSize: 2.365 MiB