Package: Biobase Version: 2.67.0 Command: /home/biocbuild/bbs-3.21-bioc/R/bin/R CMD check --install=check:Biobase.install-out.txt --library=/home/biocbuild/bbs-3.21-bioc/R/site-library --timings Biobase_2.67.0.tar.gz StartedAt: 2025-02-21 20:38:05 -0500 (Fri, 21 Feb 2025) EndedAt: 2025-02-21 20:39:22 -0500 (Fri, 21 Feb 2025) EllapsedTime: 77.3 seconds RetCode: 0 Status: OK CheckDir: Biobase.Rcheck Warnings: 0