Package: Biobase Version: 2.67.0 Command: /home/biocbuild/bbs-3.21-bioc/R/bin/R CMD build --keep-empty-dirs --no-resave-data Biobase StartedAt: 2025-02-21 16:57:53 -0500 (Fri, 21 Feb 2025) EndedAt: 2025-02-21 16:58:09 -0500 (Fri, 21 Feb 2025) EllapsedTime: 16.0 seconds RetCode: 0 Status: OK PackageFile: Biobase_2.67.0.tar.gz PackageFileSize: 1.886 MiB