Package: Biobase Version: 2.67.0 Command: /Library/Frameworks/R.framework/Resources/bin/R CMD build --keep-empty-dirs --no-resave-data Biobase StartedAt: 2025-02-21 15:40:17 -0500 (Fri, 21 Feb 2025) EndedAt: 2025-02-21 15:40:25 -0500 (Fri, 21 Feb 2025) EllapsedTime: 8.1 seconds RetCode: 0 Status: OK PackageFile: Biobase_2.67.0.tar.gz PackageFileSize: 1.886 MiB