Package: BioTIP Version: 1.21.0 Command: /home/biocbuild/bbs-3.21-bioc/R/bin/R CMD INSTALL BioTIP StartedAt: 2025-02-19 15:53:00 -0500 (Wed, 19 Feb 2025) EndedAt: 2025-02-19 15:53:12 -0500 (Wed, 19 Feb 2025) EllapsedTime: 11.4 seconds RetCode: 0 Status: OK