Package: BioTIP Version: 1.21.0 Command: /Library/Frameworks/R.framework/Resources/bin/R CMD INSTALL BioTIP StartedAt: 2025-02-19 15:40:37 -0500 (Wed, 19 Feb 2025) EndedAt: 2025-02-19 15:40:54 -0500 (Wed, 19 Feb 2025) EllapsedTime: 16.7 seconds RetCode: 0 Status: OK