Package: BioTIP Version: 1.21.0 Command: rm -rf BioTIP.buildbin-libdir && mkdir BioTIP.buildbin-libdir && /Users/biocbuild/BBS/utils/build-universal.sh BioTIP_1.21.0.tar.gz /Library/Frameworks/R.framework/Resources/bin/R BioTIP.buildbin-libdir StartedAt: 2025-02-20 00:22:46 -0500 (Thu, 20 Feb 2025) EndedAt: 2025-02-20 00:23:10 -0500 (Thu, 20 Feb 2025) EllapsedTime: 24.1 seconds RetCode: 0 Status: OK PackageFile: BioTIP_1.21.0.tgz PackageFileSize: 7.168 MiB