Package: BioQC Version: 1.35.0 Command: /Library/Frameworks/R.framework/Resources/bin/R CMD check --install=check:BioQC.install-out.txt --library=/Library/Frameworks/R.framework/Resources/library --no-vignettes --timings BioQC_1.35.0.tar.gz StartedAt: 2025-02-20 19:08:40 -0500 (Thu, 20 Feb 2025) EndedAt: 2025-02-20 19:11:55 -0500 (Thu, 20 Feb 2025) EllapsedTime: 195.1 seconds RetCode: 0 Status: OK CheckDir: BioQC.Rcheck Warnings: 0