Package: BioNet Version: 1.67.0 Command: rm -rf BioNet.buildbin-libdir && mkdir BioNet.buildbin-libdir && /Users/biocbuild/BBS/utils/build-universal.sh BioNet_1.67.0.tar.gz /Library/Frameworks/R.framework/Resources/bin/R BioNet.buildbin-libdir StartedAt: 2025-02-21 00:21:22 -0500 (Fri, 21 Feb 2025) EndedAt: 2025-02-21 00:21:44 -0500 (Fri, 21 Feb 2025) EllapsedTime: 22.0 seconds RetCode: 0 Status: OK PackageFile: BioNet_1.67.0.tgz PackageFileSize: 1.526 MiB