Package: BioNet Version: 1.68.0 Command: rm -rf BioNet.buildbin-libdir && mkdir BioNet.buildbin-libdir && /Users/biocbuild/BBS/utils/build-universal.sh BioNet_1.68.0.tar.gz /Library/Frameworks/R.framework/Resources/bin/R BioNet.buildbin-libdir StartedAt: 2025-10-15 17:37:08 -0400 (Wed, 15 Oct 2025) EndedAt: 2025-10-15 17:37:27 -0400 (Wed, 15 Oct 2025) EllapsedTime: 19.3 seconds RetCode: 0 Status: OK PackageFile: BioNet_1.68.0.tgz PackageFileSize: 1.527 MiB