Package: BioNAR Version: 1.9.1 Command: chmod a+r BioNAR -R && E:\biocbuild\bbs-3.21-bioc\R\bin\R.exe CMD build --keep-empty-dirs --no-resave-data BioNAR StartedAt: 2025-02-17 17:27:30 -0500 (Mon, 17 Feb 2025) EndedAt: 2025-02-17 17:31:05 -0500 (Mon, 17 Feb 2025) EllapsedTime: 214.5 seconds RetCode: 0 Status: OK PackageFile: BioNAR_1.9.1.tar.gz PackageFileSize: 2.629 MiB