Package: BioNAR Version: 1.9.1 Command: /Library/Frameworks/R.framework/Resources/bin/R CMD build --keep-empty-dirs --no-resave-data BioNAR StartedAt: 2025-02-18 16:01:22 -0500 (Tue, 18 Feb 2025) EndedAt: 2025-02-18 16:03:32 -0500 (Tue, 18 Feb 2025) EllapsedTime: 129.9 seconds RetCode: 0 Status: OK PackageFile: BioNAR_1.9.1.tar.gz PackageFileSize: 3.637 MiB