Package: BioNAR Version: 1.9.1 Maintainer: Anatoly Sorokin MaintainerEmail: lptolik at gmail.com git_url: https://git.bioconductor.org/packages/BioNAR git_branch: devel git_last_commit: 959f3b3 git_last_commit_date: 2025-02-13 21:12:45 -0500 (Thu, 13 Feb 2025)