Package: BioGA Version: 1.1.0 Command: E:\biocbuild\bbs-3.21-bioc\R\bin\R.exe CMD INSTALL BioGA StartedAt: 2025-02-17 16:04:09 -0500 (Mon, 17 Feb 2025) EndedAt: 2025-02-17 16:05:00 -0500 (Mon, 17 Feb 2025) EllapsedTime: 51.0 seconds RetCode: 0 Status: OK