Package: BioGA Version: 1.1.0 Command: chmod a+r BioGA -R && E:\biocbuild\bbs-3.21-bioc\R\bin\R.exe CMD build --keep-empty-dirs --no-resave-data BioGA StartedAt: 2025-02-17 17:27:00 -0500 (Mon, 17 Feb 2025) EndedAt: 2025-02-17 17:28:32 -0500 (Mon, 17 Feb 2025) EllapsedTime: 92.1 seconds RetCode: 0 Status: OK PackageFile: BioGA_1.1.0.tar.gz PackageFileSize: 305.7 KiB