Package: BioGA Version: 1.1.0 Command: /Library/Frameworks/R.framework/Resources/bin/R CMD INSTALL BioGA StartedAt: 2025-02-17 15:25:16 -0500 (Mon, 17 Feb 2025) EndedAt: 2025-02-17 15:26:09 -0500 (Mon, 17 Feb 2025) EllapsedTime: 53.0 seconds RetCode: 0 Status: OK