Package: BioGA Version: 1.1.0 Command: /Library/Frameworks/R.framework/Resources/bin/R CMD build --keep-empty-dirs --no-resave-data BioGA StartedAt: 2025-02-17 16:01:10 -0500 (Mon, 17 Feb 2025) EndedAt: 2025-02-17 16:01:58 -0500 (Mon, 17 Feb 2025) EllapsedTime: 48.0 seconds RetCode: 0 Status: OK PackageFile: BioGA_1.1.0.tar.gz PackageFileSize: 309.5 KiB