Package: BioGA Version: 1.1.0 Command: rm -rf BioGA.buildbin-libdir && mkdir BioGA.buildbin-libdir && /Users/biocbuild/BBS/utils/build-universal.sh BioGA_1.1.0.tar.gz /Library/Frameworks/R.framework/Resources/bin/R BioGA.buildbin-libdir StartedAt: 2025-02-18 00:15:44 -0500 (Tue, 18 Feb 2025) EndedAt: 2025-02-18 00:16:42 -0500 (Tue, 18 Feb 2025) EllapsedTime: 58.0 seconds RetCode: 0 Status: OK PackageFile: BioGA_1.1.0.tgz PackageFileSize: 358.3 KiB