Package: BioGA Version: 1.1.0 Command: /home/biocbuild/R/R/bin/R CMD build --keep-empty-dirs --no-resave-data BioGA StartedAt: 2025-01-28 21:18:34 -0000 (Tue, 28 Jan 2025) EndedAt: 2025-01-28 21:19:47 -0000 (Tue, 28 Jan 2025) EllapsedTime: 73.0 seconds RetCode: 0 Status: OK PackageFile: BioGA_1.1.0.tar.gz PackageFileSize: 334.9 KiB