Package: BioGA Version: 1.1.0 Command: /Library/Frameworks/R.framework/Resources/bin/R CMD build --keep-empty-dirs --no-resave-data BioGA StartedAt: 2025-02-17 15:42:11 -0500 (Mon, 17 Feb 2025) EndedAt: 2025-02-17 15:42:28 -0500 (Mon, 17 Feb 2025) EllapsedTime: 17.2 seconds RetCode: 0 Status: OK PackageFile: BioGA_1.1.0.tar.gz PackageFileSize: 309.9 KiB