Package: BioGA Version: 1.1.0 Maintainer: Dany Mukesha MaintainerEmail: danymukesha at gmail.com git_url: https://git.bioconductor.org/packages/BioGA git_branch: devel git_last_commit: 7656c41 git_last_commit_date: 2024-10-29 11:32:02 -0500 (Tue, 29 Oct 2024)