Package: BioCor Version: 1.31.0 Command: E:\biocbuild\bbs-3.21-bioc\R\bin\R.exe CMD check --no-multiarch --install=check:BioCor.install-out.txt --library=E:\biocbuild\bbs-3.21-bioc\R\library --no-vignettes --timings BioCor_1.31.0.tar.gz StartedAt: 2025-02-20 23:11:10 -0500 (Thu, 20 Feb 2025) EndedAt: 2025-02-20 23:19:01 -0500 (Thu, 20 Feb 2025) EllapsedTime: 471.0 seconds RetCode: 0 Status: OK CheckDir: BioCor.Rcheck Warnings: 0