Package: BioCor Version: 1.31.0 Command: /home/biocbuild/bbs-3.21-bioc/R/bin/R CMD build --keep-empty-dirs --no-resave-data BioCor StartedAt: 2025-02-20 16:38:21 -0500 (Thu, 20 Feb 2025) EndedAt: 2025-02-20 16:42:09 -0500 (Thu, 20 Feb 2025) EllapsedTime: 228.2 seconds RetCode: 0 Status: OK PackageFile: BioCor_1.31.0.tar.gz PackageFileSize: 1.661 MiB