Package: BioCor Version: 1.31.0 Command: /Library/Frameworks/R.framework/Resources/bin/R CMD check --install=check:BioCor.install-out.txt --library=/Library/Frameworks/R.framework/Resources/library --no-vignettes --timings BioCor_1.31.0.tar.gz StartedAt: 2025-02-20 19:05:35 -0500 (Thu, 20 Feb 2025) EndedAt: 2025-02-20 19:09:03 -0500 (Thu, 20 Feb 2025) EllapsedTime: 207.5 seconds RetCode: 0 Status: OK CheckDir: BioCor.Rcheck Warnings: 0