Package: BioCor Version: 1.31.0 Command: rm -rf BioCor.buildbin-libdir && mkdir BioCor.buildbin-libdir && /Users/biocbuild/BBS/utils/build-universal.sh BioCor_1.31.0.tar.gz /Library/Frameworks/R.framework/Resources/bin/R BioCor.buildbin-libdir StartedAt: 2025-02-21 00:21:06 -0500 (Fri, 21 Feb 2025) EndedAt: 2025-02-21 00:21:36 -0500 (Fri, 21 Feb 2025) EllapsedTime: 30.2 seconds RetCode: 0 Status: OK PackageFile: BioCor_1.31.0.tgz PackageFileSize: 1.693 MiB