Package: BioCartaImage Version: 1.5.0 Command: /Library/Frameworks/R.framework/Resources/bin/R CMD INSTALL BioCartaImage StartedAt: 2025-02-21 15:04:48 -0500 (Fri, 21 Feb 2025) EndedAt: 2025-02-21 15:05:07 -0500 (Fri, 21 Feb 2025) EllapsedTime: 18.9 seconds RetCode: 0 Status: OK