Package: BioCartaImage Version: 1.5.0 Command: /Library/Frameworks/R.framework/Resources/bin/R CMD check --install=check:BioCartaImage.install-out.txt --library=/Library/Frameworks/R.framework/Resources/library --no-vignettes --timings BioCartaImage_1.5.0.tar.gz StartedAt: 2025-02-21 18:50:04 -0500 (Fri, 21 Feb 2025) EndedAt: 2025-02-21 18:50:20 -0500 (Fri, 21 Feb 2025) EllapsedTime: 16.2 seconds RetCode: 0 Status: OK CheckDir: BioCartaImage.Rcheck Warnings: 0