Package: BioCartaImage Version: 1.5.0 Command: rm -rf BioCartaImage.buildbin-libdir && mkdir BioCartaImage.buildbin-libdir && /Users/biocbuild/BBS/utils/build-universal.sh BioCartaImage_1.5.0.tar.gz /Library/Frameworks/R.framework/Resources/bin/R BioCartaImage.buildbin-libdir StartedAt: 2025-02-21 22:48:53 -0500 (Fri, 21 Feb 2025) EndedAt: 2025-02-21 22:48:55 -0500 (Fri, 21 Feb 2025) EllapsedTime: 2.0 seconds RetCode: 0 Status: OK PackageFile: BioCartaImage_1.5.0.tgz PackageFileSize: 3.667 MiB