Package: BindingSiteFinder Version: 2.5.2 Command: E:\biocbuild\bbs-3.21-bioc\R\bin\R.exe CMD INSTALL BindingSiteFinder StartedAt: 2025-02-20 16:20:34 -0500 (Thu, 20 Feb 2025) EndedAt: 2025-02-20 16:23:55 -0500 (Thu, 20 Feb 2025) EllapsedTime: 201.6 seconds RetCode: 0 Status: OK