Package: BindingSiteFinder Version: 2.5.2 Command: chmod a+r BindingSiteFinder -R && E:\biocbuild\bbs-3.21-bioc\R\bin\R.exe CMD build --keep-empty-dirs --no-resave-data BindingSiteFinder StartedAt: 2025-02-20 17:27:07 -0500 (Thu, 20 Feb 2025) EndedAt: 2025-02-20 17:32:04 -0500 (Thu, 20 Feb 2025) EllapsedTime: 297.7 seconds RetCode: 0 Status: OK PackageFile: BindingSiteFinder_2.5.2.tar.gz PackageFileSize: 2.15 MiB