Package: BindingSiteFinder Version: 2.5.2 Command: rm -rf BindingSiteFinder.buildbin-libdir && mkdir BindingSiteFinder.buildbin-libdir && E:\biocbuild\bbs-3.21-bioc\R\bin\R.exe CMD INSTALL --build --library=BindingSiteFinder.buildbin-libdir BindingSiteFinder_2.5.2.tar.gz StartedAt: 2025-02-21 07:37:39 -0500 (Fri, 21 Feb 2025) EndedAt: 2025-02-21 07:42:33 -0500 (Fri, 21 Feb 2025) EllapsedTime: 293.5 seconds RetCode: 0 Status: OK PackageFile: BindingSiteFinder_2.5.2.zip PackageFileSize: 2.547 MiB