Package: BicARE Version: 1.65.0 Command: chmod a+r BicARE -R && E:\biocbuild\bbs-3.21-bioc\R\bin\R.exe CMD build --keep-empty-dirs --no-resave-data BicARE StartedAt: 2025-02-19 17:25:48 -0500 (Wed, 19 Feb 2025) EndedAt: 2025-02-19 17:29:05 -0500 (Wed, 19 Feb 2025) EllapsedTime: 197.2 seconds RetCode: 0 Status: OK PackageFile: BicARE_1.65.0.tar.gz PackageFileSize: 331.3 KiB