Package: BiSeq Version: 1.47.0 Command: /home/biocbuild/bbs-3.21-bioc/R/bin/R CMD build --keep-empty-dirs --no-resave-data BiSeq StartedAt: 2025-02-20 16:42:02 -0500 (Thu, 20 Feb 2025) EndedAt: 2025-02-20 16:43:55 -0500 (Thu, 20 Feb 2025) EllapsedTime: 113.1 seconds RetCode: 0 Status: OK PackageFile: BiSeq_1.47.0.tar.gz PackageFileSize: 915.3 KiB