Package: BiSeq Version: 1.47.0 Command: /Library/Frameworks/R.framework/Resources/bin/R CMD check --install=check:BiSeq.install-out.txt --library=/Library/Frameworks/R.framework/Resources/library --no-vignettes --timings BiSeq_1.47.0.tar.gz StartedAt: 2025-02-20 19:10:52 -0500 (Thu, 20 Feb 2025) EndedAt: 2025-02-20 19:17:50 -0500 (Thu, 20 Feb 2025) EllapsedTime: 417.5 seconds RetCode: 0 Status: OK CheckDir: BiSeq.Rcheck Warnings: 0