Package: BiSeq Version: 1.47.0 Command: /Library/Frameworks/R.framework/Resources/bin/R CMD INSTALL BiSeq StartedAt: 2025-02-21 15:22:07 -0500 (Fri, 21 Feb 2025) EndedAt: 2025-02-21 15:22:24 -0500 (Fri, 21 Feb 2025) EllapsedTime: 16.2 seconds RetCode: 0 Status: OK