Package: BiSeq Version: 1.47.0 Command: /Library/Frameworks/R.framework/Resources/bin/R CMD check --install=check:BiSeq.install-out.txt --library=/Library/Frameworks/R.framework/Resources/library --no-vignettes --timings BiSeq_1.47.0.tar.gz StartedAt: 2025-02-20 18:18:04 -0500 (Thu, 20 Feb 2025) EndedAt: 2025-02-20 18:20:06 -0500 (Thu, 20 Feb 2025) EllapsedTime: 121.4 seconds RetCode: 0 Status: OK CheckDir: BiSeq.Rcheck Warnings: 0