Package: BiRewire Version: 3.39.0 Command: /Library/Frameworks/R.framework/Resources/bin/R CMD check --install=check:BiRewire.install-out.txt --library=/Library/Frameworks/R.framework/Resources/library --no-vignettes --timings BiRewire_3.39.0.tar.gz StartedAt: 2025-02-19 18:19:23 -0500 (Wed, 19 Feb 2025) EndedAt: 2025-02-19 18:20:26 -0500 (Wed, 19 Feb 2025) EllapsedTime: 63.8 seconds RetCode: 0 Status: WARNINGS CheckDir: BiRewire.Rcheck Warnings: 1