Package: BiGGR Version: 1.43.0 Command: E:\biocbuild\bbs-3.21-bioc\R\bin\R.exe CMD check --no-multiarch --install=check:BiGGR.install-out.txt --library=E:\biocbuild\bbs-3.21-bioc\R\library --no-vignettes --timings BiGGR_1.43.0.tar.gz StartedAt: 2025-02-20 23:06:37 -0500 (Thu, 20 Feb 2025) EndedAt: 2025-02-20 23:12:06 -0500 (Thu, 20 Feb 2025) EllapsedTime: 328.9 seconds RetCode: 0 Status: OK CheckDir: BiGGR.Rcheck Warnings: 0