Package: BiGGR Version: 1.43.0 Command: chmod a+r BiGGR -R && E:\biocbuild\bbs-3.21-bioc\R\bin\R.exe CMD build --keep-empty-dirs --no-resave-data BiGGR StartedAt: 2025-02-20 17:26:22 -0500 (Thu, 20 Feb 2025) EndedAt: 2025-02-20 17:27:06 -0500 (Thu, 20 Feb 2025) EllapsedTime: 44.1 seconds RetCode: 0 Status: OK PackageFile: BiGGR_1.43.0.tar.gz PackageFileSize: 4.195 MiB