Package: BiGGR Version: 1.43.0 Command: rm -rf BiGGR.buildbin-libdir && mkdir BiGGR.buildbin-libdir && E:\biocbuild\bbs-3.21-bioc\R\bin\R.exe CMD INSTALL --build --library=BiGGR.buildbin-libdir BiGGR_1.43.0.tar.gz StartedAt: 2025-02-21 07:37:36 -0500 (Fri, 21 Feb 2025) EndedAt: 2025-02-21 07:38:05 -0500 (Fri, 21 Feb 2025) EllapsedTime: 29.1 seconds RetCode: 0 Status: OK PackageFile: BiGGR_1.43.0.zip PackageFileSize: 4.275 MiB