############################################################################## ############################################################################## ### ### Running command: ### ### /home/biocbuild/bbs-3.21-bioc/R/bin/R CMD INSTALL BiGGR ### ############################################################################## ############################################################################## * installing to library ‘/home/biocbuild/bbs-3.21-bioc/R/site-library’ ERROR: dependencies ‘rsbml’, ‘hyperdraw’ are not available for package ‘BiGGR’ Perhaps try a variation of: install.packages(c('rsbml', 'hyperdraw')) * removing ‘/home/biocbuild/bbs-3.21-bioc/R/site-library/BiGGR’