############################################################################## ############################################################################## ### ### Running command: ### ### /home/biocbuild/bbs-3.21-bioc/R/bin/R CMD build --keep-empty-dirs --no-resave-data BiGGR ### ############################################################################## ############################################################################## * checking for file ‘BiGGR/DESCRIPTION’ ... OK * preparing ‘BiGGR’: * checking DESCRIPTION meta-information ... OK * installing the package to build vignettes ----------------------------------- ERROR: dependencies ‘rsbml’, ‘hyperdraw’ are not available for package ‘BiGGR’ Perhaps try a variation of: install.packages(c('rsbml', 'hyperdraw')) * removing ‘/tmp/RtmpashWCo/Rinst115f06ad7d214/BiGGR’ ----------------------------------- ERROR: package installation failed