Package: BiFET Version: 1.27.0 Command: rm -rf BiFET.buildbin-libdir && mkdir BiFET.buildbin-libdir && E:\biocbuild\bbs-3.21-bioc\R\bin\R.exe CMD INSTALL --build --library=BiFET.buildbin-libdir BiFET_1.27.0.tar.gz StartedAt: 2025-02-20 07:19:37 -0500 (Thu, 20 Feb 2025) EndedAt: 2025-02-20 07:19:52 -0500 (Thu, 20 Feb 2025) EllapsedTime: 15.5 seconds RetCode: 0 Status: OK PackageFile: BiFET_1.27.0.zip PackageFileSize: 663.4 KiB