Package: BiFET Version: 1.27.0 Command: /home/biocbuild/bbs-3.21-bioc/R/bin/R CMD INSTALL BiFET StartedAt: 2025-02-19 15:21:55 -0500 (Wed, 19 Feb 2025) EndedAt: 2025-02-19 15:22:04 -0500 (Wed, 19 Feb 2025) EllapsedTime: 8.8 seconds RetCode: 0 Status: OK