Package: BiFET Version: 1.27.0 Command: /Library/Frameworks/R.framework/Resources/bin/R CMD INSTALL BiFET StartedAt: 2025-02-19 15:08:52 -0500 (Wed, 19 Feb 2025) EndedAt: 2025-02-19 15:09:05 -0500 (Wed, 19 Feb 2025) EllapsedTime: 12.5 seconds RetCode: 0 Status: OK