Package: BiFET Version: 1.27.0 Command: /home/biocbuild/R/R/bin/R CMD INSTALL BiFET StartedAt: 2025-01-29 19:38:55 -0000 (Wed, 29 Jan 2025) EndedAt: 2025-01-29 19:39:08 -0000 (Wed, 29 Jan 2025) EllapsedTime: 12.1 seconds RetCode: 0 Status: OK