Package: BiFET Version: 1.27.0 Command: /home/biocbuild/R/R/bin/R CMD build --keep-empty-dirs --no-resave-data BiFET StartedAt: 2025-01-29 21:10:43 -0000 (Wed, 29 Jan 2025) EndedAt: 2025-01-29 21:12:14 -0000 (Wed, 29 Jan 2025) EllapsedTime: 91.0 seconds RetCode: 0 Status: OK PackageFile: BiFET_1.27.0.tar.gz PackageFileSize: 669.4 KiB