Package: BgeeDB Version: 2.33.0 Command: E:\biocbuild\bbs-3.21-bioc\R\bin\R.exe CMD INSTALL BgeeDB StartedAt: 2025-02-19 15:57:07 -0500 (Wed, 19 Feb 2025) EndedAt: 2025-02-19 15:58:01 -0500 (Wed, 19 Feb 2025) EllapsedTime: 53.5 seconds RetCode: 0 Status: OK